BEGIN:VCALENDAR
VERSION:2.0
PRODID:-//Squarespace Inc/Squarespace 6//v6//EN
BEGIN:VEVENT
UID:5b7644390ebbe8a5a876d04a@squarespace.com
DTSTAMP:20180924T034743Z
DTSTART:20181020T060000Z
DTEND:20181020T133000Z
SUMMARY:LCF Dubbo Fundraiser Ball
END:VEVENT
END:VCALENDAR
