BEGIN:VCALENDAR
VERSION:2.0
PRODID:-//Squarespace Inc/Squarespace 6//v6//EN
BEGIN:VEVENT
UID:5ba3463c562fa73e81edcc5a@squarespace.com
DTSTAMP:20190119T035256Z
DTSTART:20190119T053000Z
DTEND:20190119T113000Z
SUMMARY:Tunes On The Track
END:VEVENT
END:VCALENDAR
