BEGIN:VCALENDAR
VERSION:2.0
PRODID:-//Squarespace Inc/Squarespace 6//v6//EN
BEGIN:VEVENT
UID:5ba85e5f419202c9a870503a@squarespace.com
DTSTAMP:20180924T040143Z
DTSTART:20181021T003000Z
DTEND:20181021T060000Z
SUMMARY:The Challenge - Ride Against Cancer
END:VEVENT
END:VCALENDAR
