BEGIN:VCALENDAR
VERSION:2.0
PRODID:-//Squarespace Inc/Squarespace 6//v6//EN
BEGIN:VEVENT
UID:5c07452cb8a045e146379720@squarespace.com
DTSTAMP:20190119T035551Z
DTSTART:20190119T053000Z
DTEND:20190119T113000Z
SUMMARY:The Beatlez Go Bush
END:VEVENT
END:VCALENDAR
