BEGIN:VCALENDAR
VERSION:2.0
PRODID:-//Squarespace Inc/Squarespace 6//v6//EN
BEGIN:VEVENT
UID:5abdaef3aa4a99218a3bf006@squarespace.com
DTSTAMP:20180621T205650Z
DTSTART:20180707T010000Z
DTEND:20180707T070000Z
SUMMARY:Punters Classic Saturday Race Day
END:VEVENT
END:VCALENDAR
