BEGIN:VCALENDAR
VERSION:2.0
PRODID:-//Squarespace Inc/Squarespace 6//v6//EN
BEGIN:VEVENT
UID:5b53bd246d2a73038b5bb647@squarespace.com
DTSTAMP:20180821T015451Z
DTSTART:20180916T020000Z
DTEND:20180916T080000Z
SUMMARY:Dubbo City Toyota Gold Cup Day
END:VEVENT
END:VCALENDAR
