BEGIN:VCALENDAR
VERSION:2.0
PRODID:-//Squarespace Inc/Squarespace 6//v6//EN
BEGIN:VEVENT
UID:5b26338203ce643d6e4d6478@squarespace.com
DTSTAMP:20180621T205637Z
DTSTART:20180720T020000Z
DTEND:20180720T070000Z
SUMMARY:Give Me 5 for Kid's Half Day Friday Race Day 
END:VEVENT
END:VCALENDAR
