BEGIN:VCALENDAR
VERSION:2.0
PRODID:-//Squarespace Inc/Squarespace 6//v6//EN
BEGIN:VEVENT
UID:5b2c0fef70a6ad37380115db@squarespace.com
DTSTAMP:20180817T041614Z
DTSTART:20180827T020000Z
DTEND:20180827T030000Z
SUMMARY:Dubbo Turf Club Kennards Hire Race Day
END:VEVENT
END:VCALENDAR
