BEGIN:VCALENDAR
VERSION:2.0
PRODID:-//Squarespace Inc/Squarespace 6//v6//EN
BEGIN:VEVENT
UID:5b68fc1f2b6a28624c06a778@squarespace.com
DTSTAMP:20180925T035523Z
DTSTART:20180928T020000Z
DTEND:20180928T080000Z
SUMMARY:Tradies Race Day
END:VEVENT
END:VCALENDAR
