BEGIN:VCALENDAR
VERSION:2.0
PRODID:-//Squarespace Inc/Squarespace 6//v6//EN
BEGIN:VEVENT
UID:5bb5bd21e2c48319f5197d94@squarespace.com
DTSTAMP:20181004T071645Z
DTSTART:20181120T010000Z
DTEND:20181120T070000Z
SUMMARY:Lion Industry Race Day
END:VEVENT
END:VCALENDAR
