BEGIN:VCALENDAR
VERSION:2.0
PRODID:-//Squarespace Inc/Squarespace 6//v6//EN
BEGIN:VEVENT
UID:5c118ac18a922dccc8996a15@squarespace.com
DTSTAMP:20190114T053436Z
DTSTART:20190203T010000Z
DTEND:20190203T070000Z
SUMMARY:McDonald's Lifeline Boys Day Out
END:VEVENT
END:VCALENDAR
