BEGIN:VCALENDAR
VERSION:2.0
PRODID:-//Squarespace Inc/Squarespace 6//v6//EN
BEGIN:VEVENT
UID:5c24572a1ae6cf8610ae6723@squarespace.com
DTSTAMP:20190130T035226Z
DTSTART:20190210T010000Z
DTEND:20190210T070000Z
SUMMARY:The Milestone Hotels Ladies Day - Country Championships
END:VEVENT
END:VCALENDAR
