BEGIN:VCALENDAR
VERSION:2.0
PRODID:-//Squarespace Inc/Squarespace 6//v6//EN
BEGIN:VEVENT
UID:5abdad82352f53e5abc232af@squarespace.com
DTSTAMP:20180522T201608Z
DTSTART:20180528T010000Z
DTEND:20180528T070000Z
SUMMARY:TAB Meeting
GEO:-32.234319;148.63442
LOCATION:Dubbo Turf Club
END:VEVENT
END:VCALENDAR
