BEGIN:VCALENDAR
VERSION:2.0
PRODID:-//Squarespace Inc/Squarespace 6//v6//EN
BEGIN:VEVENT
UID:5abdae282b6a284e1a171dcd@squarespace.com
DTSTAMP:20180525T050517Z
DTSTART:20180615T010000Z
DTEND:20180615T070000Z
SUMMARY:Chamber of Commerce Race Day
END:VEVENT
END:VCALENDAR
