BEGIN:VCALENDAR
VERSION:2.0
PRODID:-//Squarespace Inc/Squarespace 6//v6//EN
BEGIN:VEVENT
UID:5b72468e88251bc6c91bb7ec@squarespace.com
DTSTAMP:20181005T062543Z
DTSTART:20181221T040000Z
DTEND:20181221T100000Z
SUMMARY:Chill-rite Christmas Twilights
END:VEVENT
END:VCALENDAR
