BEGIN:VCALENDAR
VERSION:2.0
PRODID:-//Squarespace Inc/Squarespace 6//v6//EN
BEGIN:VEVENT
UID:5b723e916d2a73cace2bcf5f@squarespace.com
DTSTAMP:20181009T055655Z
DTSTART:20181106T010000Z
DTEND:20181106T063000Z
SUMMARY:Daily Liberal's Melbourne Cup Day 
END:VEVENT
END:VCALENDAR
