BEGIN:VCALENDAR
VERSION:2.0
PRODID:-//Squarespace Inc/Squarespace 6//v6//EN
BEGIN:VEVENT
UID:5b53c156758d4613dee56379@squarespace.com
DTSTAMP:20181031T223529Z
DTSTART:20181103T010000Z
DTEND:20181103T070000Z
SUMMARY:Hit 93.5 Derby Day
END:VEVENT
END:VCALENDAR
