BEGIN:VCALENDAR
VERSION:2.0
PRODID:-//Squarespace Inc/Squarespace 6//v6//EN
BEGIN:VEVENT
UID:5abdb8f3758d46a7b61c6a24@squarespace.com
DTSTAMP:20190201T061144Z
DTSTART:20190614T020000Z
DTEND:20190614T070000Z
SUMMARY:Fashion Series Round 2
END:VEVENT
END:VCALENDAR
