BEGIN:VCALENDAR
VERSION:2.0
PRODID:-//Squarespace Inc/Squarespace 6//v6//EN
BEGIN:VEVENT
UID:5aa39b47e2c4832555bc2fdb@squarespace.com
DTSTAMP:20190201T061153Z
DTSTART:20190210T010000Z
DTEND:20190210T060000Z
SUMMARY:Fashion Series Round 1
GEO:-32.230663;148.638426
LOCATION:Dubbo Turf Club\, Merrilea Road\, Dubbo\, NSW\, 2830\, Australia
END:VEVENT
END:VCALENDAR
