BEGIN:VCALENDAR
VERSION:2.0
PRODID:-//Squarespace Inc/Squarespace 6//v6//EN
BEGIN:VEVENT
UID:5abdba1b575d1fe9090c2a66@squarespace.com
DTSTAMP:20190201T060930Z
DTSTART:20190915T020000Z
DTEND:20190915T070000Z
SUMMARY:Fashion Series Round 3
GEO:-32.230663;148.638426
LOCATION:Dubbo Turf Club\, Merrilea Road\, Dubbo\, NSW\, 2830\, Australia
END:VEVENT
END:VCALENDAR
