BEGIN:VCALENDAR
VERSION:2.0
PRODID:-//Squarespace Inc/Squarespace 6//v6//EN
BEGIN:VEVENT
UID:5abdba6a562fa7197ccdd4eb@squarespace.com
DTSTAMP:20190201T060918Z
DTSTART:20191102T010000Z
DTEND:20191102T060000Z
SUMMARY:Fashion Series Round 4
GEO:-32.230663;148.638426
LOCATION:Dubbo Turf Club\, Merrilea Road\, Dubbo\, NSW\, 2830\, Australia
END:VEVENT
END:VCALENDAR
