BEGIN:VCALENDAR
VERSION:2.0
PRODID:-//Squarespace Inc/Squarespace 6//v6//EN
BEGIN:VEVENT
UID:5abdbb37575d1fe9090c4b79@squarespace.com
DTSTAMP:20190201T060949Z
DTSTART:20191105T010000Z
DTEND:20191105T060000Z
SUMMARY:Fashion Series Round 5 - Wild Card
GEO:-32.230663;148.638426
LOCATION:Dubbo Turf Club\, Merrilea Road\, Dubbo\, NSW\, 2830\, Australia
END:VEVENT
END:VCALENDAR
