BEGIN:VCALENDAR
VERSION:2.0
PRODID:-//Squarespace Inc/Squarespace 6//v6//EN
BEGIN:VEVENT
UID:5abefa98758d46335ce8faaa@squarespace.com
DTSTAMP:20190201T061104Z
DTSTART:20191122T073000Z
DTEND:20191122T124500Z
SUMMARY:Fashion Series Finale
GEO:-32.230663;148.638426
LOCATION:Dubbo Turf Club\, Merrilea Road\, Dubbo\, NSW\, 2830\, Australia
END:VEVENT
END:VCALENDAR
